BEGIN:VCALENDAR
VERSION:2.0
PRODID:-//Date iCal//NONSGML kigkonsult.se iCalcreator 2.20.2//
METHOD:PUBLISH
BEGIN:VTIMEZONE
TZID:America/Chicago
BEGIN:STANDARD
DTSTART:20201101T020000
TZOFFSETFROM:-0500
TZOFFSETTO:-0600
TZNAME:CST
END:STANDARD
BEGIN:DAYLIGHT
DTSTART:20210314T020000
TZOFFSETFROM:-0600
TZOFFSETTO:-0500
TZNAME:CDT
END:DAYLIGHT
END:VTIMEZONE
BEGIN:VEVENT
UID:calendar.276571.event_calendar_date.0@www.hhs.texas.gov
DTSTAMP:20211003T033135Z
CREATED:20201021T130200Z
DESCRIPTION:Aging Texas Well Advisory Committee (ATWAC) Agenda\n          
 \n\n  \n\n    \n\n\n    \n\n          \nNovember 4\, 2020 - 9:00am\n      
 \n\n\n\n\n      \nLocation: 
DTSTART;TZID=America/Chicago:20201104T090000
DTEND;TZID=America/Chicago:20201104T090000
LAST-MODIFIED:20201027T161828Z
SUMMARY:Aging Texas Well Advisory Committee (ATWAC) Agenda
URL;TYPE=URI:https://www.hhs.texas.gov/about-hhs/communications-events/meet
 ings-events/2020/11/04/aging-texas-well-advisory-committee-atwac-agenda
END:VEVENT
END:VCALENDAR
